BEGIN:VCALENDAR
VERSION:2.0
PRODID:-//ISM - ECPv6.15.17//NONSGML v1.0//EN
CALSCALE:GREGORIAN
METHOD:PUBLISH
X-ORIGINAL-URL:https://ism-usa.com
X-WR-CALDESC:Events for ISM
REFRESH-INTERVAL;VALUE=DURATION:PT1H
X-Robots-Tag:noindex
X-PUBLISHED-TTL:PT1H
BEGIN:VTIMEZONE
TZID:America/Los_Angeles
BEGIN:DAYLIGHT
TZOFFSETFROM:-0800
TZOFFSETTO:-0700
TZNAME:PDT
DTSTART:20260308T100000
END:DAYLIGHT
BEGIN:STANDARD
TZOFFSETFROM:-0700
TZOFFSETTO:-0800
TZNAME:PST
DTSTART:20261101T090000
END:STANDARD
BEGIN:DAYLIGHT
TZOFFSETFROM:-0800
TZOFFSETTO:-0700
TZNAME:PDT
DTSTART:20270314T100000
END:DAYLIGHT
BEGIN:STANDARD
TZOFFSETFROM:-0700
TZOFFSETTO:-0800
TZNAME:PST
DTSTART:20271107T090000
END:STANDARD
BEGIN:DAYLIGHT
TZOFFSETFROM:-0800
TZOFFSETTO:-0700
TZNAME:PDT
DTSTART:20280312T100000
END:DAYLIGHT
BEGIN:STANDARD
TZOFFSETFROM:-0700
TZOFFSETTO:-0800
TZNAME:PST
DTSTART:20281105T090000
END:STANDARD
END:VTIMEZONE
BEGIN:VEVENT
DTSTART;VALUE=DATE:20270214
DTEND;VALUE=DATE:20270215
DTSTAMP:20260420T175735
CREATED:20241204T033229Z
LAST-MODIFIED:20250905T164900Z
UID:6177-1802563200-1802649599@ism-usa.com
SUMMARY:2027 Super Bowl LXI
DESCRIPTION:The 61st edition of the Super Bowl returns to Los Angeles County when beautiful new SoFi Stadium hosts the biggest event in all of sports in 2027! International Sports Management is excited to offer the perfect opportunity to entertain clients during this incredible occasion. \nISM and its facilities are independent of the NFL® and SoFi Stadium®.
URL:https://ism-usa.com/event/2027-super-bowl-lxi/
LOCATION:SoFi Stadium\, Inglewood\, CA\, United States
CATEGORIES:NFL
ATTACH;FMTTYPE=image/jpeg:https://ism-usa.com/wp-content/uploads/2015/08/Thumb-Football.jpg
ORGANIZER;CN="International Sports Management":MAILTO:info@ism-usa.com
END:VEVENT
END:VCALENDAR