BEGIN:VCALENDAR
VERSION:2.0
PRODID:-//ISM - ECPv6.15.17//NONSGML v1.0//EN
CALSCALE:GREGORIAN
METHOD:PUBLISH
X-WR-CALNAME:ISM
X-ORIGINAL-URL:https://ism-usa.com
X-WR-CALDESC:Events for ISM
REFRESH-INTERVAL;VALUE=DURATION:PT1H
X-Robots-Tag:noindex
X-PUBLISHED-TTL:PT1H
BEGIN:VTIMEZONE
TZID:Europe/London
BEGIN:DAYLIGHT
TZOFFSETFROM:+0000
TZOFFSETTO:+0100
TZNAME:BST
DTSTART:20180325T010000
END:DAYLIGHT
BEGIN:STANDARD
TZOFFSETFROM:+0100
TZOFFSETTO:+0000
TZNAME:GMT
DTSTART:20181028T010000
END:STANDARD
BEGIN:DAYLIGHT
TZOFFSETFROM:+0000
TZOFFSETTO:+0100
TZNAME:BST
DTSTART:20190331T010000
END:DAYLIGHT
BEGIN:STANDARD
TZOFFSETFROM:+0100
TZOFFSETTO:+0000
TZNAME:GMT
DTSTART:20191027T010000
END:STANDARD
BEGIN:DAYLIGHT
TZOFFSETFROM:+0000
TZOFFSETTO:+0100
TZNAME:BST
DTSTART:20200329T010000
END:DAYLIGHT
BEGIN:STANDARD
TZOFFSETFROM:+0100
TZOFFSETTO:+0000
TZNAME:GMT
DTSTART:20201025T010000
END:STANDARD
BEGIN:DAYLIGHT
TZOFFSETFROM:+0000
TZOFFSETTO:+0100
TZNAME:BST
DTSTART:20210328T010000
END:DAYLIGHT
BEGIN:STANDARD
TZOFFSETFROM:+0100
TZOFFSETTO:+0000
TZNAME:GMT
DTSTART:20211031T010000
END:STANDARD
BEGIN:DAYLIGHT
TZOFFSETFROM:+0000
TZOFFSETTO:+0100
TZNAME:BST
DTSTART:20220327T010000
END:DAYLIGHT
BEGIN:STANDARD
TZOFFSETFROM:+0100
TZOFFSETTO:+0000
TZNAME:GMT
DTSTART:20221030T010000
END:STANDARD
BEGIN:DAYLIGHT
TZOFFSETFROM:+0000
TZOFFSETTO:+0100
TZNAME:BST
DTSTART:20230326T010000
END:DAYLIGHT
BEGIN:STANDARD
TZOFFSETFROM:+0100
TZOFFSETTO:+0000
TZNAME:GMT
DTSTART:20231029T010000
END:STANDARD
END:VTIMEZONE
BEGIN:VTIMEZONE
TZID:America/New_York
BEGIN:DAYLIGHT
TZOFFSETFROM:-0500
TZOFFSETTO:-0400
TZNAME:EDT
DTSTART:20200308T070000
END:DAYLIGHT
BEGIN:STANDARD
TZOFFSETFROM:-0400
TZOFFSETTO:-0500
TZNAME:EST
DTSTART:20201101T060000
END:STANDARD
BEGIN:DAYLIGHT
TZOFFSETFROM:-0500
TZOFFSETTO:-0400
TZNAME:EDT
DTSTART:20210314T070000
END:DAYLIGHT
BEGIN:STANDARD
TZOFFSETFROM:-0400
TZOFFSETTO:-0500
TZNAME:EST
DTSTART:20211107T060000
END:STANDARD
BEGIN:DAYLIGHT
TZOFFSETFROM:-0500
TZOFFSETTO:-0400
TZNAME:EDT
DTSTART:20220313T070000
END:DAYLIGHT
BEGIN:STANDARD
TZOFFSETFROM:-0400
TZOFFSETTO:-0500
TZNAME:EST
DTSTART:20221106T060000
END:STANDARD
BEGIN:DAYLIGHT
TZOFFSETFROM:-0500
TZOFFSETTO:-0400
TZNAME:EDT
DTSTART:20230312T070000
END:DAYLIGHT
BEGIN:STANDARD
TZOFFSETFROM:-0400
TZOFFSETTO:-0500
TZNAME:EST
DTSTART:20231105T060000
END:STANDARD
BEGIN:DAYLIGHT
TZOFFSETFROM:-0500
TZOFFSETTO:-0400
TZNAME:EDT
DTSTART:20240310T070000
END:DAYLIGHT
BEGIN:STANDARD
TZOFFSETFROM:-0400
TZOFFSETTO:-0500
TZNAME:EST
DTSTART:20241103T060000
END:STANDARD
BEGIN:DAYLIGHT
TZOFFSETFROM:-0500
TZOFFSETTO:-0400
TZNAME:EDT
DTSTART:20250309T070000
END:DAYLIGHT
BEGIN:STANDARD
TZOFFSETFROM:-0400
TZOFFSETTO:-0500
TZNAME:EST
DTSTART:20251102T060000
END:STANDARD
BEGIN:DAYLIGHT
TZOFFSETFROM:-0500
TZOFFSETTO:-0400
TZNAME:EDT
DTSTART:20260308T070000
END:DAYLIGHT
BEGIN:STANDARD
TZOFFSETFROM:-0400
TZOFFSETTO:-0500
TZNAME:EST
DTSTART:20261101T060000
END:STANDARD
BEGIN:DAYLIGHT
TZOFFSETFROM:-0500
TZOFFSETTO:-0400
TZNAME:EDT
DTSTART:20270314T070000
END:DAYLIGHT
BEGIN:STANDARD
TZOFFSETFROM:-0400
TZOFFSETTO:-0500
TZNAME:EST
DTSTART:20271107T060000
END:STANDARD
END:VTIMEZONE
BEGIN:VTIMEZONE
TZID:America/Los_Angeles
BEGIN:DAYLIGHT
TZOFFSETFROM:-0800
TZOFFSETTO:-0700
TZNAME:PDT
DTSTART:20220313T100000
END:DAYLIGHT
BEGIN:STANDARD
TZOFFSETFROM:-0700
TZOFFSETTO:-0800
TZNAME:PST
DTSTART:20221106T090000
END:STANDARD
BEGIN:DAYLIGHT
TZOFFSETFROM:-0800
TZOFFSETTO:-0700
TZNAME:PDT
DTSTART:20230312T100000
END:DAYLIGHT
BEGIN:STANDARD
TZOFFSETFROM:-0700
TZOFFSETTO:-0800
TZNAME:PST
DTSTART:20231105T090000
END:STANDARD
BEGIN:DAYLIGHT
TZOFFSETFROM:-0800
TZOFFSETTO:-0700
TZNAME:PDT
DTSTART:20240310T100000
END:DAYLIGHT
BEGIN:STANDARD
TZOFFSETFROM:-0700
TZOFFSETTO:-0800
TZNAME:PST
DTSTART:20241103T090000
END:STANDARD
END:VTIMEZONE
BEGIN:VTIMEZONE
TZID:America/Chicago
BEGIN:DAYLIGHT
TZOFFSETFROM:-0600
TZOFFSETTO:-0500
TZNAME:CDT
DTSTART:20230312T080000
END:DAYLIGHT
BEGIN:STANDARD
TZOFFSETFROM:-0500
TZOFFSETTO:-0600
TZNAME:CST
DTSTART:20231105T070000
END:STANDARD
BEGIN:DAYLIGHT
TZOFFSETFROM:-0600
TZOFFSETTO:-0500
TZNAME:CDT
DTSTART:20240310T080000
END:DAYLIGHT
BEGIN:STANDARD
TZOFFSETFROM:-0500
TZOFFSETTO:-0600
TZNAME:CST
DTSTART:20241103T070000
END:STANDARD
BEGIN:DAYLIGHT
TZOFFSETFROM:-0600
TZOFFSETTO:-0500
TZNAME:CDT
DTSTART:20250309T080000
END:DAYLIGHT
BEGIN:STANDARD
TZOFFSETFROM:-0500
TZOFFSETTO:-0600
TZNAME:CST
DTSTART:20251102T070000
END:STANDARD
BEGIN:DAYLIGHT
TZOFFSETFROM:-0600
TZOFFSETTO:-0500
TZNAME:CDT
DTSTART:20260308T080000
END:DAYLIGHT
BEGIN:STANDARD
TZOFFSETFROM:-0500
TZOFFSETTO:-0600
TZNAME:CST
DTSTART:20261101T070000
END:STANDARD
BEGIN:DAYLIGHT
TZOFFSETFROM:-0600
TZOFFSETTO:-0500
TZNAME:CDT
DTSTART:20270314T080000
END:DAYLIGHT
BEGIN:STANDARD
TZOFFSETFROM:-0500
TZOFFSETTO:-0600
TZNAME:CST
DTSTART:20271107T070000
END:STANDARD
BEGIN:DAYLIGHT
TZOFFSETFROM:-0600
TZOFFSETTO:-0500
TZNAME:CDT
DTSTART:20280312T080000
END:DAYLIGHT
BEGIN:STANDARD
TZOFFSETFROM:-0500
TZOFFSETTO:-0600
TZNAME:CST
DTSTART:20281105T070000
END:STANDARD
END:VTIMEZONE
BEGIN:VEVENT
DTSTART;VALUE=DATE:20190709
DTEND;VALUE=DATE:20190710
DTSTAMP:20260420T154341
CREATED:20180929T043325Z
LAST-MODIFIED:20241030T021028Z
UID:1654-1562630400-1562716799@ism-usa.com
SUMMARY:2019 MLB All-Star Game
DESCRIPTION:It’s no surprise that “Believeland” is excited to host the 2019 MLB All-Star Game! This annual fan-favorite returns to Progressive Field for the 1st time in over 20 years\, and is also the 6th time the team has hosted this event\, the most of any franchise in the Majors! International Sports Management\, Inc. is arranging exclusive hospitality and ticketing packages for the big game to ensure your\nclients are given to the best experience possible. \nFor over 20 years\, ISM has been the global leader in sports hospitality and will cater to your every need. From our pre-game reception including dinner\, open bar and guest speakers\, to guaranteed ticketing and great seats for this annual AL vs. NL battle\, to the post-game party\, all that’s left for you to do is show up and enjoy\, as we help you craft client relationships for years and revenues to come. We look forward to hosting you at the 90th MLB All-Star Game while you and your guests have the experience of a lifetime! \nISM and its facilities are independent of the MLB® and Progressive Field®.
URL:https://ism-usa.com/event/2019-mlb-all-star-game/
LOCATION:Progressive Field\, Cleveland\, OH\, United States
CATEGORIES:MLB
ATTACH;FMTTYPE=image/jpeg:https://ism-usa.com/wp-content/uploads/2015/08/Thumb-Baseball.jpg
ORGANIZER;CN="International Sports Management":MAILTO:info@ism-usa.com
END:VEVENT
BEGIN:VEVENT
DTSTART;VALUE=DATE:20210713
DTEND;VALUE=DATE:20210714
DTSTAMP:20260420T154341
CREATED:20200407T031814Z
LAST-MODIFIED:20241030T023435Z
UID:2342-1626134400-1626220799@ism-usa.com
SUMMARY:2021 MLB All-Star Game
DESCRIPTION:The 2021 MLB All-Star Game is coming to Coors Field. International Sports Management\, Inc. is arranging exclusive hospitality and ticketing packages for the big game to ensure your clients are given to the best experience possible. \nISM and its facilities are independent of the MLB® and Coors Field®.
URL:https://ism-usa.com/event/2021-mlb-all-star-game/
LOCATION:Coors Field\, 2001 Blake St\, Denver\, CO\, 80205\, United States
CATEGORIES:MLB
ATTACH;FMTTYPE=image/jpeg:https://ism-usa.com/wp-content/uploads/2015/08/Thumb-Baseball.jpg
ORGANIZER;CN="International Sports Management":MAILTO:info@ism-usa.com
END:VEVENT
BEGIN:VEVENT
DTSTART;VALUE=DATE:20220719
DTEND;VALUE=DATE:20220720
DTSTAMP:20260420T154341
CREATED:20210210T202903Z
LAST-MODIFIED:20241030T182004Z
UID:2768-1658188800-1658275199@ism-usa.com
SUMMARY:2022 MLB All-Star Game
DESCRIPTION:It is long overdue but one of the cathedrals of the game\, Dodger Stadium\, will play host to the 2022 MLB All-Star Game! This annual fan-favorite returns for only the second time to this storied ballpark nestled between downtown Los Angeles and the San Gabriel mountains. International Sports Management\, Inc. is arranging exclusive hospitality and ticketing packages for the big game to ensure your clients are given the best experience possible. \nISM and its facilities are independent of the MLB® and Dodger Stadium®.
URL:https://ism-usa.com/event/2022-mlb-all-star-game/
LOCATION:Dodger Stadium\, Los Angeles\, CA\, United States
CATEGORIES:MLB
ATTACH;FMTTYPE=image/jpeg:https://ism-usa.com/wp-content/uploads/2015/08/Thumb-Baseball.jpg
ORGANIZER;CN="International Sports Management":MAILTO:info@ism-usa.com
END:VEVENT
BEGIN:VEVENT
DTSTART;VALUE=DATE:20230710
DTEND;VALUE=DATE:20230712
DTSTAMP:20260420T154341
CREATED:20221006T020507Z
LAST-MODIFIED:20241030T185751Z
UID:4914-1688947200-1689119999@ism-usa.com
SUMMARY:2023 MLB All-Star Game & Home Run Derby
DESCRIPTION:T-Mobile Park will play host to the 2023 MLB All-Star Game & Home Run Derby! International Sports Management\, Inc. is arranging exclusive hospitality and ticketing packages for the big game to ensure your clients are given the best experience possible. \nISM and its facilities are independent of the MLB® and T-Mobile Park®.
URL:https://ism-usa.com/event/2023-mlb-all-star-game-home-run-derby/
LOCATION:T-Mobile Park\, Seattle\, WA\, United States
CATEGORIES:MLB
ATTACH;FMTTYPE=image/jpeg:https://ism-usa.com/wp-content/uploads/2015/08/Thumb-Baseball.jpg
ORGANIZER;CN="International Sports Management":MAILTO:info@ism-usa.com
END:VEVENT
BEGIN:VEVENT
DTSTART;VALUE=DATE:20240715
DTEND;VALUE=DATE:20240717
DTSTAMP:20260420T154341
CREATED:20230721T212353Z
LAST-MODIFIED:20241030T194544Z
UID:5527-1721001600-1721174399@ism-usa.com
SUMMARY:2024 MLB All-Star Game & Home Run Derby
DESCRIPTION:Globe Life Field will play host to the 2024 MLB All-Star Game & Home Run Derby! International Sports Management\, Inc. is arranging exclusive hospitality and ticketing packages for the big game to ensure your clients are given the best experience possible. \nISM and its facilities are independent of the MLB® and Globe Life Field®.
URL:https://ism-usa.com/event/2024-mlb-all-star-game-home-run-derby/
LOCATION:Globe Life Field\, Arlington\, TX\, United States
CATEGORIES:MLB
ATTACH;FMTTYPE=image/jpeg:https://ism-usa.com/wp-content/uploads/2015/08/Thumb-Baseball.jpg
ORGANIZER;CN="International Sports Management":MAILTO:info@ism-usa.com
END:VEVENT
BEGIN:VEVENT
DTSTART;VALUE=DATE:20250714
DTEND;VALUE=DATE:20250716
DTSTAMP:20260420T154341
CREATED:20240910T210013Z
LAST-MODIFIED:20250717T201649Z
UID:5954-1752451200-1752623999@ism-usa.com
SUMMARY:2025 MLB All-Star Game & Home Run Derby
DESCRIPTION:Truist Park will play host to the 2025 MLB All-Star Game & Home Run Derby! International Sports Management\, Inc. is arranging exclusive hospitality and ticketing packages for the big game to ensure your clients are given the best experience possible. \nISM and its facilities are independent of the MLB® and Truist Park®.
URL:https://ism-usa.com/event/2025-mlb-all-star-game-home-run-derby/
LOCATION:Truist Park\, Cumberland\, GA\, United States
CATEGORIES:MLB
ATTACH;FMTTYPE=image/jpeg:https://ism-usa.com/wp-content/uploads/2015/08/Thumb-Baseball.jpg
ORGANIZER;CN="International Sports Management":MAILTO:info@ism-usa.com
END:VEVENT
BEGIN:VEVENT
DTSTART;VALUE=DATE:20260713
DTEND;VALUE=DATE:20260715
DTSTAMP:20260420T154341
CREATED:20250905T151131Z
LAST-MODIFIED:20250905T151713Z
UID:6620-1783900800-1784073599@ism-usa.com
SUMMARY:2026 MLB All-Star Game & Home Run Derby
DESCRIPTION:Citizens Bank Park will play host to the 2026 MLB All-Star Game & Home Run Derby! International Sports Management\, Inc. is arranging exclusive hospitality and ticketing packages for the big game to ensure your clients are given the best experience possible. \nISM and its facilities are independent of the MLB® and Citizens Bank Park®.
URL:https://ism-usa.com/event/2026-mlb-all-star-game-home-run-derby/
LOCATION:Citizens Bank Park\, Philadelphia\, PA\, United States
CATEGORIES:MLB
ATTACH;FMTTYPE=image/jpeg:https://ism-usa.com/wp-content/uploads/2015/08/Thumb-Baseball.jpg
ORGANIZER;CN="International Sports Management":MAILTO:info@ism-usa.com
END:VEVENT
BEGIN:VEVENT
DTSTART;VALUE=DATE:20270712
DTEND;VALUE=DATE:20270714
DTSTAMP:20260420T154341
CREATED:20250905T163758Z
LAST-MODIFIED:20250905T163758Z
UID:6637-1815350400-1815523199@ism-usa.com
SUMMARY:2027 MLB All-Star Game and Home Run Derby
DESCRIPTION:The 2027 MLB All-Star Home Run Derby and All-Star Game return to Wrigley Field\, and ISM\, the global leader in sports hospitality\, will help you create the ultimate experience for your guests. Expertise\, experience\, and excellence: these three factors have influenced thousands of companies to partner with ISM over the past 28 years\, delivering the perfect opportunity to nurture key business relationships. We are dedicated to helping you do the same and look forward to seeing you in Chicago! \nISM and its facilities are independent of the MLB® and Wrigley Field®.
URL:https://ism-usa.com/event/2027-mlb-all-star-game-and-home-run-derby/
LOCATION:Wrigley Field\, Chicago\, IL\, United States
CATEGORIES:MLB
ATTACH;FMTTYPE=image/jpeg:https://ism-usa.com/wp-content/uploads/2015/08/Thumb-Baseball.jpg
ORGANIZER;CN="International Sports Management":MAILTO:info@ism-usa.com
END:VEVENT
END:VCALENDAR